BEGIN:VCALENDAR
VERSION:2.0
PRODID:-//BGE Languedoc Catalogne - ECPv6.15.20//NONSGML v1.0//EN
CALSCALE:GREGORIAN
METHOD:PUBLISH
X-WR-CALNAME:BGE Languedoc Catalogne
X-ORIGINAL-URL:https://www.bge-lc.fr
X-WR-CALDESC:Évènements pour BGE Languedoc Catalogne
REFRESH-INTERVAL;VALUE=DURATION:PT1H
X-Robots-Tag:noindex
X-PUBLISHED-TTL:PT1H
BEGIN:VTIMEZONE
TZID:Europe/Paris
BEGIN:DAYLIGHT
TZOFFSETFROM:+0100
TZOFFSETTO:+0200
TZNAME:CEST
DTSTART:20240331T010000
END:DAYLIGHT
BEGIN:STANDARD
TZOFFSETFROM:+0200
TZOFFSETTO:+0100
TZNAME:CET
DTSTART:20241027T010000
END:STANDARD
BEGIN:DAYLIGHT
TZOFFSETFROM:+0100
TZOFFSETTO:+0200
TZNAME:CEST
DTSTART:20250330T010000
END:DAYLIGHT
BEGIN:STANDARD
TZOFFSETFROM:+0200
TZOFFSETTO:+0100
TZNAME:CET
DTSTART:20251026T010000
END:STANDARD
BEGIN:DAYLIGHT
TZOFFSETFROM:+0100
TZOFFSETTO:+0200
TZNAME:CEST
DTSTART:20260329T010000
END:DAYLIGHT
BEGIN:STANDARD
TZOFFSETFROM:+0200
TZOFFSETTO:+0100
TZNAME:CET
DTSTART:20261025T010000
END:STANDARD
END:VTIMEZONE
BEGIN:VEVENT
DTSTART;TZID=Europe/Paris:20250902T090000
DTEND;TZID=Europe/Paris:20250902T170000
DTSTAMP:20260419T145422
CREATED:20250806T134739Z
LAST-MODIFIED:20250806T134739Z
UID:19005497-1756803600-1756832400@www.bge-lc.fr
SUMMARY:Certification : Piloter et faire évoluer son auto-entreprise J3/4
DESCRIPTION:
URL:https://www.bge-lc.fr/event/certification-piloter-et-faire-evoluer-son-auto-entreprise-j3-4-3/
LOCATION:Cabestany\, D16 avenue St Gauderique\, Cabestany\, 60330\, France
CATEGORIES:Formations Cabestany
ATTACH;FMTTYPE=image/jpeg:https://www.bge-lc.fr/wp-content/uploads/2023/04/Autoentrepreneur.jpg
ORGANIZER;CN="Alexandra Kreit":MAILTO:a.kreit@bge-lc.fr
END:VEVENT
BEGIN:VEVENT
DTSTART;TZID=Europe/Paris:20250904T090000
DTEND;TZID=Europe/Paris:20250904T170000
DTSTAMP:20260419T145422
CREATED:20250806T134819Z
LAST-MODIFIED:20250806T134819Z
UID:19005499-1756976400-1757005200@www.bge-lc.fr
SUMMARY:Certification : Piloter et faire évoluer son auto-entreprise J4/4
DESCRIPTION:
URL:https://www.bge-lc.fr/event/certification-piloter-et-faire-evoluer-son-auto-entreprise-j4-4-3/
LOCATION:Cabestany\, D16 avenue St Gauderique\, Cabestany\, 60330\, France
CATEGORIES:Formations Cabestany
ATTACH;FMTTYPE=image/jpeg:https://www.bge-lc.fr/wp-content/uploads/2023/04/Autoentrepreneur.jpg
ORGANIZER;CN="Alexandra Kreit":MAILTO:a.kreit@bge-lc.fr
END:VEVENT
BEGIN:VEVENT
DTSTART;TZID=Europe/Paris:20250918T090000
DTEND;TZID=Europe/Paris:20250918T170000
DTSTAMP:20260419T145422
CREATED:20250806T134854Z
LAST-MODIFIED:20250806T134854Z
UID:19005502-1758186000-1758214800@www.bge-lc.fr
SUMMARY:Élaborer un plan de prospection
DESCRIPTION:
URL:https://www.bge-lc.fr/event/elaborer-un-plan-de-prospection-6/
LOCATION:Cabestany\, D16 avenue St Gauderique\, Cabestany\, 60330\, France
CATEGORIES:Formations Cabestany
ATTACH;FMTTYPE=image/jpeg:https://www.bge-lc.fr/wp-content/uploads/2023/04/Developpement-commercial.jpg
ORGANIZER;CN="Alexandra Kreit":MAILTO:a.kreit@bge-lc.fr
END:VEVENT
BEGIN:VEVENT
DTSTART;TZID=Europe/Paris:20250922T090000
DTEND;TZID=Europe/Paris:20250923T170000
DTSTAMP:20260419T145422
CREATED:20250806T134945Z
LAST-MODIFIED:20250806T134945Z
UID:19005504-1758531600-1758646800@www.bge-lc.fr
SUMMARY:Certification : Développer la visibilité d'une entreprise sur les réseaux sociaux J1 et 2/3
DESCRIPTION:
URL:https://www.bge-lc.fr/event/certification-developper-la-visibilite-dune-entreprise-sur-les-reseaux-sociaux-j1-et-2-3-3/
LOCATION:Cabestany\, D16 avenue St Gauderique\, Cabestany\, 60330\, France
CATEGORIES:Formations Cabestany
ATTACH;FMTTYPE=image/jpeg:https://www.bge-lc.fr/wp-content/uploads/2023/04/Reseaux-sociaux-1.jpg
ORGANIZER;CN="Alexandra Kreit":MAILTO:a.kreit@bge-lc.fr
END:VEVENT
BEGIN:VEVENT
DTSTART;TZID=Europe/Paris:20250925T090000
DTEND;TZID=Europe/Paris:20250926T170000
DTSTAMP:20260419T145422
CREATED:20250806T135132Z
LAST-MODIFIED:20250806T135132Z
UID:19005508-1758790800-1758906000@www.bge-lc.fr
SUMMARY:Conduire un entretien de vente et de négociation
DESCRIPTION:
URL:https://www.bge-lc.fr/event/conduire-un-entretien-de-vente-et-de-negociation/
LOCATION:Cabestany\, D16 avenue St Gauderique\, Cabestany\, 60330\, France
CATEGORIES:Formations Cabestany
ATTACH;FMTTYPE=image/jpeg:https://www.bge-lc.fr/wp-content/uploads/2023/01/portrait-successful-businesswoman-latin-american-2022-12-08-03-58-02-utc-scaled.jpg
ORGANIZER;CN="Alexandra Kreit":MAILTO:a.kreit@bge-lc.fr
END:VEVENT
BEGIN:VEVENT
DTSTART;TZID=Europe/Paris:20250929T090000
DTEND;TZID=Europe/Paris:20250929T170000
DTSTAMP:20260419T145422
CREATED:20250806T135037Z
LAST-MODIFIED:20250806T155205Z
UID:19005506-1759136400-1759165200@www.bge-lc.fr
SUMMARY:Certification : Développer la visibilité d'une entreprise sur les réseaux sociaux J3/3
DESCRIPTION:
URL:https://www.bge-lc.fr/event/certification-developper-la-visibilite-dune-entreprise-sur-les-reseaux-sociaux-j3-3-7/
LOCATION:Cabestany\, D16 avenue St Gauderique\, Cabestany\, 60330\, France
CATEGORIES:Formations Cabestany
ATTACH;FMTTYPE=image/jpeg:https://www.bge-lc.fr/wp-content/uploads/2023/04/Reseaux-sociaux-1.jpg
ORGANIZER;CN="Alexandra Kreit":MAILTO:a.kreit@bge-lc.fr
END:VEVENT
END:VCALENDAR