BEGIN:VCALENDAR
VERSION:2.0
PRODID:-//BGE Languedoc Catalogne - ECPv6.15.20//NONSGML v1.0//EN
CALSCALE:GREGORIAN
METHOD:PUBLISH
X-ORIGINAL-URL:https://www.bge-lc.fr
X-WR-CALDESC:Évènements pour BGE Languedoc Catalogne
REFRESH-INTERVAL;VALUE=DURATION:PT1H
X-Robots-Tag:noindex
X-PUBLISHED-TTL:PT1H
BEGIN:VTIMEZONE
TZID:Europe/Paris
BEGIN:DAYLIGHT
TZOFFSETFROM:+0100
TZOFFSETTO:+0200
TZNAME:CEST
DTSTART:20230326T010000
END:DAYLIGHT
BEGIN:STANDARD
TZOFFSETFROM:+0200
TZOFFSETTO:+0100
TZNAME:CET
DTSTART:20231029T010000
END:STANDARD
BEGIN:DAYLIGHT
TZOFFSETFROM:+0100
TZOFFSETTO:+0200
TZNAME:CEST
DTSTART:20240331T010000
END:DAYLIGHT
BEGIN:STANDARD
TZOFFSETFROM:+0200
TZOFFSETTO:+0100
TZNAME:CET
DTSTART:20241027T010000
END:STANDARD
BEGIN:DAYLIGHT
TZOFFSETFROM:+0100
TZOFFSETTO:+0200
TZNAME:CEST
DTSTART:20250330T010000
END:DAYLIGHT
BEGIN:STANDARD
TZOFFSETFROM:+0200
TZOFFSETTO:+0100
TZNAME:CET
DTSTART:20251026T010000
END:STANDARD
END:VTIMEZONE
BEGIN:VEVENT
DTSTART;TZID=Europe/Paris:20240205T090000
DTEND;TZID=Europe/Paris:20240206T170000
DTSTAMP:20260419T153059
CREATED:20230117T173636Z
LAST-MODIFIED:20231221T180909Z
UID:19003860-1707123600-1707238800@www.bge-lc.fr
SUMMARY:Maitriser le fonctionnement de l'auto entreprise(salle BACCI ERIC)
DESCRIPTION:
URL:https://www.bge-lc.fr/event/maitriser-mon-autoentreprise-2/
LOCATION:Nîmes\, Bât. Le Polygone 1950 avenue du Marechal Juin\, Nîmes\, 30900\, France
CATEGORIES:Formations Nîmes
ATTACH;FMTTYPE=image/jpeg:https://www.bge-lc.fr/wp-content/uploads/2022/06/videocall-conference-homeschooling-e-learning-on-d-2022-01-21-19-26-26-utc-1-scaled.jpg
END:VEVENT
END:VCALENDAR